BEGIN:VCALENDAR
VERSION:2.0
PRODID:-//hacksw/handcal//NONSGML v1.0//EN
BEGIN:VEVENT
DTSTAMP:20260308T010000Z
DTSTART:20260308T010000Z
DTEND:20260308T030000Z

SUMMARY:Conan Gray
DESCRIPTION:Conan Gray’s Wishbone World Tour with special guest Esha Tewari is coming to Kia Center on March 7!ABOUT THE ARTISTConan Gray is an American pop singer and songwriter known for his emotionally rich lyrics and introspective songwriting. He began his music career by sharing original songs and covers on YouTube, which led to a record deal with Republic Records.In 2022, Gray followed up with Superache showcasing his growth as a songwriter with emotionally complex tracks like “Yours,” “Memories,” and “People Watching.” Known for blending indie pop with heartfelt storytelling, Conan Gray has become one of the defining voices in modern pop music, earning praise for his vulnerability, melodic style, and ability to connect with a global audience.LISTEN NOWDon&#39;t miss a beat! Follow Kia Center on social media for the latest concert and event updates, exclusive behind-the-scenes content and more!Unlock a world of entertainment! Subscribe to our emails and get first-hand information about upcoming shows, along with exclusive presale codes to secure your tickets before anyone else. Click or tap here to subscribe!
END:VEVENT
END:VCALENDAR