BEGIN:VCALENDAR
VERSION:2.0
PRODID:-//hacksw/handcal//NONSGML v1.0//EN
BEGIN:VEVENT
DTSTAMP:20260811T230000Z
DTSTART:20260811T230000Z
DTEND:19700101T000000Z

SUMMARY:i-dle - CANCELED
DESCRIPTION:The i-dle concert scheduled for Tuesday, August 11, has been canceled. Refunds will be processed automatically to the original method of payment.
END:VEVENT
END:VCALENDAR