BEGIN:VCALENDAR
VERSION:2.0
PRODID:-//hacksw/handcal//NONSGML v1.0//EN
BEGIN:VEVENT
DTSTAMP:20270101T000000Z
DTSTART:20270101T000000Z
DTEND:20270101T020000Z

SUMMARY:Jim Gaffigan
DESCRIPTION:Ring in the new year with laughter! Don&#39;t miss Jim Gaffigan&#39;s return to Kia Center on December 31.
END:VEVENT
END:VCALENDAR