BEGIN:VCALENDAR
VERSION:2.0
PRODID:-//hacksw/handcal//NONSGML v1.0//EN
BEGIN:VEVENT
DTSTAMP:20261005T000000Z
DTSTART:20261005T000000Z
DTEND:20261005T020000Z

SUMMARY:Kany García
DESCRIPTION:Kany Garcia’s Puerta Abierta Tour 2026 is coming to Kia Center on October 4!ABOUT THE ARTISTKany Garcia is a celebrated singer-songwriter known for her soulful voice and poignant lyrics. After studying music at the Interamerican University of Puerto Rico, García embarked on her professional career, releasing her debut album, "Cualquier Día," in 2007. The album&#39;s fusion of pop, rock, and folk elements captivated audiences, earning her critical acclaim and a devoted fan base.García&#39;s subsequent albums, including "Boleto De Entrada" (2009), "Kany García" (2012), and "Limonada" (2016), further solidified her reputation as a versatile and introspective artist. With her emotionally charged lyrics and melodic compositions, García explores themes of love, identity, and resilience, resonating deeply with listeners across Latin America and beyond.Throughout her career, García has garnered numerous accolades, including multiple Latin Grammy Awards, reaffirming her status as one of the most influential voices in contemporary Latin music. Beyond her musical endeavors, García is also an advocate for LGBTQ+ rights and social justice, using her platform to amplify marginalized voices and effect positive change in her community.With her unwavering passion for music and commitment to authenticity, Kany García continues to inspire audiences around the world with her heartfelt performances and unwavering artistic integrity.LISTEN NOWDon&#39;t miss a beat! Follow Kia Center on social media for the latest concert and event updates, exclusive behind-the-scenes content and more!Unlock a world of entertainment! Subscribe to our emails and get first-hand information about upcoming shows, along with exclusive presale codes to secure your tickets before anyone else.subscribe
END:VEVENT
END:VCALENDAR