BEGIN:VCALENDAR
VERSION:2.0
PRODID:-//hacksw/handcal//NONSGML v1.0//EN
BEGIN:VEVENT
DTSTAMP:20260509T210000Z
DTSTART:20260509T210000Z
DTEND:20260509T230000Z

SUMMARY:Orlando Pirates vs. Fishers Freight
DESCRIPTION:Get Hooked on Pirates Football!
END:VEVENT
END:VCALENDAR